BEGIN:VCALENDAR
VERSION:2.0
PRODID:-//jEvents 1.5 for Joomla//EN
CALSCALE:GREGORIAN
METHOD:PUBLISH
BEGIN:VEVENT

UID:fe46fc3fd8aacfa6636ff9f58545f692
CATEGORIES:Default
SUMMARY:Holiday Chorus
LOCATION:Central Christian Church
DESCRIPTION;ENCODING=QUOTED-PRINTABLE:\n\nCome learn several Christmas and holiday songs in 4-part harmony, then 
 perform with the chorus during the holiday season! Women and girls who like
  to sing are welcome - no need to read music and no dues, just come have so
 me fun!\n
CONTACT:740-720-3221

DTSTAMP:20260423T020156Z
DTSTART:20161004T110000Z
DTEND:20161214T045959Z
SEQUENCE:0
RRULE:FREQ=WEEKLY;COUNT=11;INTERVAL=1;BYDAY=TU
TRANSP:OPAQUE
END:VEVENT
END:VCALENDAR