BEGIN:VCALENDAR
VERSION:2.0
PRODID:-//jEvents 1.5 for Joomla//EN
CALSCALE:GREGORIAN
METHOD:PUBLISH
BEGIN:VEVENT

UID:3d4183de671b50adb043f1e0950814b8
CATEGORIES:Default
SUMMARY:Friends and Family Night
LOCATION:Central Christian Church
DESCRIPTION;ENCODING=QUOTED-PRINTABLE:
CONTACT:(740) 720-3221
X-EXTRAINFO:Dress rehearsal for upcoming competition performance 
DTSTAMP:20260420T051243Z
DTSTART:20180516T000000Z
DTEND:20180516T035959Z
SEQUENCE:0
TRANSP:OPAQUE
END:VEVENT
END:VCALENDAR