BEGIN:VCALENDAR
VERSION:2.0
PRODID:-//jEvents 1.5 for Joomla//EN
CALSCALE:GREGORIAN
METHOD:PUBLISH
BEGIN:VEVENT

UID:cdc9066443c85f2884b00daaac3376f4
CATEGORIES:Default
SUMMARY:Installation Banquet - no rehearsal
LOCATION:Der Dutchman
DESCRIPTION;ENCODING=QUOTED-PRINTABLE:
CONTACT:740-720-3221

DTSTAMP:20260420T012152Z
DTSTART:20180522
DTEND:20180522
SEQUENCE:0
TRANSP:OPAQUE
END:VEVENT
END:VCALENDAR